BEGIN:VCALENDAR
VERSION:2.0
PRODID:GIGPRESS 2.0 WORDPRESS PLUGIN
CALSCALE:GREGORIAN
X-WR-TIMEZONE:Etc/GMT
METHOD:PUBLISH
BEGIN:VTIMEZONE
TZID:GMT
BEGIN:STANDARD
DTSTART:20071028T010000
TZOFFSETTO:+0000
TZOFFSETFROM:+0000
END:STANDARD
END:VTIMEZONE
BEGIN:VEVENT
SUMMARY:Duo (Larry + Dave) at Italian American Club
DESCRIPTION:Notes: 6:00pm to 7:30pm - Open to the public. Even Greeks. 
LOCATION:Italian American Club\, 301 W Wayne Ave\, Wayne\, US
UID:20260421T220000Z-535-peterd@mentiseducation.com
URL:https://larryroneymusic.com/gigs
DTSTART;VALUE=DATE-TIME;TZID=GMT:20260421T220000Z
DTEND;VALUE=DATE-TIME;TZID=GMT:20260421T220000Z
DTSTAMP:20260420T021531Z
END:VEVENT
END:VCALENDAR